BEGIN:VCALENDAR
VERSION:2.0
PRODID:-//Satya School - ECPv6.11.2//NONSGML v1.0//EN
CALSCALE:GREGORIAN
METHOD:PUBLISH
X-WR-CALNAME:Satya School
X-ORIGINAL-URL:https://satyaschool.com
X-WR-CALDESC:Events for Satya School
REFRESH-INTERVAL;VALUE=DURATION:PT1H
X-Robots-Tag:noindex
X-PUBLISHED-TTL:PT1H
BEGIN:VTIMEZONE
TZID:Asia/Kolkata
BEGIN:STANDARD
TZOFFSETFROM:+0530
TZOFFSETTO:+0530
TZNAME:IST
DTSTART:20250101T000000
END:STANDARD
END:VTIMEZONE
BEGIN:VEVENT
DTSTART;VALUE=DATE:20250506
DTEND;VALUE=DATE:20250507
DTSTAMP:20260424T082838
CREATED:20250430T110355Z
LAST-MODIFIED:20250430T110355Z
UID:16499-1746489600-1746575999@satyaschool.com
SUMMARY:Assembly by Grade 5B Interhouse 1 (Gr 6- 12) – General Awareness & Current Affairs
DESCRIPTION:
URL:https://satyaschool.com/event/assembly-by-grade-5b-interhouse-1-gr-6-12-general-awareness-current-affairs/
CATEGORIES:School Calendar
END:VEVENT
END:VCALENDAR