BEGIN:VCALENDAR
VERSION:2.0
PRODID:-//Satya School - ECPv6.11.2//NONSGML v1.0//EN
CALSCALE:GREGORIAN
METHOD:PUBLISH
X-WR-CALNAME:Satya School
X-ORIGINAL-URL:https://satyaschool.com
X-WR-CALDESC:Events for Satya School
REFRESH-INTERVAL;VALUE=DURATION:PT1H
X-Robots-Tag:noindex
X-PUBLISHED-TTL:PT1H
BEGIN:VTIMEZONE
TZID:Asia/Kolkata
BEGIN:STANDARD
TZOFFSETFROM:+0530
TZOFFSETTO:+0530
TZNAME:IST
DTSTART:20250101T000000
END:STANDARD
END:VTIMEZONE
BEGIN:VEVENT
DTSTART;VALUE=DATE:20250508
DTEND;VALUE=DATE:20250509
DTSTAMP:20260424T082838
CREATED:20250430T110431Z
LAST-MODIFIED:20250430T110431Z
UID:16501-1746662400-1746748799@satyaschool.com
SUMMARY:World Press Day – PT1 begins (Gr 6-12) – Dispersal at 1
DESCRIPTION:
URL:https://satyaschool.com/event/world-press-day-pt1-begins-gr-6-12-dispersal-at-1/
CATEGORIES:School Calendar
END:VEVENT
END:VCALENDAR