BEGIN:VCALENDAR
VERSION:2.0
PRODID:-//Satya School - ECPv6.11.2//NONSGML v1.0//EN
CALSCALE:GREGORIAN
METHOD:PUBLISH
X-WR-CALNAME:Satya School
X-ORIGINAL-URL:https://satyaschool.com
X-WR-CALDESC:Events for Satya School
REFRESH-INTERVAL;VALUE=DURATION:PT1H
X-Robots-Tag:noindex
X-PUBLISHED-TTL:PT1H
BEGIN:VTIMEZONE
TZID:Asia/Kolkata
BEGIN:STANDARD
TZOFFSETFROM:+0530
TZOFFSETTO:+0530
TZNAME:IST
DTSTART:20250101T000000
END:STANDARD
END:VTIMEZONE
BEGIN:VEVENT
DTSTART;VALUE=DATE:20250523
DTEND;VALUE=DATE:20250524
DTSTAMP:20260424T082836
CREATED:20250430T111850Z
LAST-MODIFIED:20250430T111850Z
UID:16526-1747958400-1748044799@satyaschool.com
SUMMARY:Mother’s Day (Gr 3-12) Interhouse 1 (Gr 6- 12) – General Awareness & Current Affairs – Anurakshan (Plantation Drive) – PYP
DESCRIPTION:
URL:https://satyaschool.com/event/mothers-day-gr-3-12-interhouse-1-gr-6-12-general-awareness-current-affairs-anurakshan-plantation-drive-pyp/
CATEGORIES:School Calendar
END:VEVENT
END:VCALENDAR