BEGIN:VCALENDAR
VERSION:2.0
PRODID:-//Satya School - ECPv6.11.2//NONSGML v1.0//EN
CALSCALE:GREGORIAN
METHOD:PUBLISH
X-WR-CALNAME:Satya School
X-ORIGINAL-URL:https://satyaschool.com
X-WR-CALDESC:Events for Satya School
REFRESH-INTERVAL;VALUE=DURATION:PT1H
X-Robots-Tag:noindex
X-PUBLISHED-TTL:PT1H
BEGIN:VTIMEZONE
TZID:Asia/Kolkata
BEGIN:STANDARD
TZOFFSETFROM:+0530
TZOFFSETTO:+0530
TZNAME:IST
DTSTART:20250101T000000
END:STANDARD
END:VTIMEZONE
BEGIN:VEVENT
DTSTART;VALUE=DATE:20250607
DTEND;VALUE=DATE:20250608
DTSTAMP:20260424T070450
CREATED:20250430T113658Z
LAST-MODIFIED:20250430T113658Z
UID:16540-1749254400-1749340799@satyaschool.com
SUMMARY:Bakr-Id – HOLIDAY
DESCRIPTION:
URL:https://satyaschool.com/event/bakr-id-holiday/
CATEGORIES:School Calendar
END:VEVENT
END:VCALENDAR