BEGIN:VCALENDAR
VERSION:2.0
PRODID:-//Satya School - ECPv6.11.2//NONSGML v1.0//EN
CALSCALE:GREGORIAN
METHOD:PUBLISH
X-ORIGINAL-URL:https://satyaschool.com
X-WR-CALDESC:Events for Satya School
REFRESH-INTERVAL;VALUE=DURATION:PT1H
X-Robots-Tag:noindex
X-PUBLISHED-TTL:PT1H
BEGIN:VTIMEZONE
TZID:Asia/Kolkata
BEGIN:STANDARD
TZOFFSETFROM:+0530
TZOFFSETTO:+0530
TZNAME:IST
DTSTART:20250101T000000
END:STANDARD
END:VTIMEZONE
BEGIN:VEVENT
DTSTART;VALUE=DATE:20250820
DTEND;VALUE=DATE:20250821
DTSTAMP:20260424T042423
CREATED:20250503T103228Z
LAST-MODIFIED:20250503T103228Z
UID:16727-1755648000-1755734399@satyaschool.com
SUMMARY:Combined Assembly by Grade 1&2
DESCRIPTION:
URL:https://satyaschool.com/event/combined-assembly-by-grade-12/
CATEGORIES:School Calendar
END:VEVENT
END:VCALENDAR