BEGIN:VCALENDAR
VERSION:2.0
PRODID:-//Satya School - ECPv6.11.2//NONSGML v1.0//EN
CALSCALE:GREGORIAN
METHOD:PUBLISH
X-ORIGINAL-URL:https://satyaschool.com
X-WR-CALDESC:Events for Satya School
REFRESH-INTERVAL;VALUE=DURATION:PT1H
X-Robots-Tag:noindex
X-PUBLISHED-TTL:PT1H
BEGIN:VTIMEZONE
TZID:Asia/Kolkata
BEGIN:STANDARD
TZOFFSETFROM:+0530
TZOFFSETTO:+0530
TZNAME:IST
DTSTART:20250101T000000
END:STANDARD
END:VTIMEZONE
BEGIN:VEVENT
DTSTART;VALUE=DATE:20251002
DTEND;VALUE=DATE:20251003
DTSTAMP:20260424T011252
CREATED:20250503T104527Z
LAST-MODIFIED:20250503T104527Z
UID:16785-1759363200-1759449599@satyaschool.com
SUMMARY:Gandhi Jayanti\, Lal Bahadur Shastri’s Jayanti and Dusshera HOLIDAY
DESCRIPTION:
URL:https://satyaschool.com/event/gandhi-jayanti-lal-bahadur-shastris-jayanti-and-dusshera-holiday/
CATEGORIES:School Calendar
END:VEVENT
END:VCALENDAR