BEGIN:VCALENDAR
VERSION:2.0
PRODID:-//Satya School - ECPv6.11.2//NONSGML v1.0//EN
CALSCALE:GREGORIAN
METHOD:PUBLISH
X-WR-CALNAME:Satya School
X-ORIGINAL-URL:https://satyaschool.com
X-WR-CALDESC:Events for Satya School
REFRESH-INTERVAL;VALUE=DURATION:PT1H
X-Robots-Tag:noindex
X-PUBLISHED-TTL:PT1H
BEGIN:VTIMEZONE
TZID:Asia/Kolkata
BEGIN:STANDARD
TZOFFSETFROM:+0530
TZOFFSETTO:+0530
TZNAME:IST
DTSTART:20250101T000000
END:STANDARD
END:VTIMEZONE
BEGIN:VEVENT
DTSTART;VALUE=DATE:20251218
DTEND;VALUE=DATE:20251219
DTSTAMP:20260423T212956
CREATED:20250503T113839Z
LAST-MODIFIED:20250503T113839Z
UID:16893-1766016000-1766102399@satyaschool.com
SUMMARY:Heats (Gr 6-9 & 11) Assembly by Grade 9A&B
DESCRIPTION:
URL:https://satyaschool.com/event/heats-gr-6-9-11-assembly-by-grade-9ab/
CATEGORIES:School Calendar
END:VEVENT
END:VCALENDAR