BEGIN:VCALENDAR
VERSION:2.0
PRODID:-//Satya School - ECPv6.11.2//NONSGML v1.0//EN
CALSCALE:GREGORIAN
METHOD:PUBLISH
X-ORIGINAL-URL:https://satyaschool.com
X-WR-CALDESC:Events for Satya School
REFRESH-INTERVAL;VALUE=DURATION:PT1H
X-Robots-Tag:noindex
X-PUBLISHED-TTL:PT1H
BEGIN:VTIMEZONE
TZID:Asia/Kolkata
BEGIN:STANDARD
TZOFFSETFROM:+0530
TZOFFSETTO:+0530
TZNAME:IST
DTSTART:20250101T000000
END:STANDARD
END:VTIMEZONE
BEGIN:VEVENT
DTSTART;VALUE=DATE:20251219
DTEND;VALUE=DATE:20251220
DTSTAMP:20260423T213304
CREATED:20250503T113917Z
LAST-MODIFIED:20250503T113917Z
UID:16895-1766102400-1766188799@satyaschool.com
SUMMARY:Assembly by KG1A& Nur Christmas Celebration
DESCRIPTION:
URL:https://satyaschool.com/event/assembly-by-kg1a-nur-christmas-celebration/
CATEGORIES:School Calendar
END:VEVENT
END:VCALENDAR