BEGIN:VCALENDAR
VERSION:2.0
PRODID:-//Satya School - ECPv6.11.2//NONSGML v1.0//EN
CALSCALE:GREGORIAN
METHOD:PUBLISH
X-ORIGINAL-URL:https://satyaschool.com
X-WR-CALDESC:Events for Satya School
REFRESH-INTERVAL;VALUE=DURATION:PT1H
X-Robots-Tag:noindex
X-PUBLISHED-TTL:PT1H
BEGIN:VTIMEZONE
TZID:Asia/Kolkata
BEGIN:STANDARD
TZOFFSETFROM:+0530
TZOFFSETTO:+0530
TZNAME:IST
DTSTART:20260101T000000
END:STANDARD
END:VTIMEZONE
BEGIN:VEVENT
DTSTART;VALUE=DATE:20260113
DTEND;VALUE=DATE:20260114
DTSTAMP:20260423T195110
CREATED:20250503T120412Z
LAST-MODIFIED:20250503T120431Z
UID:16915-1768262400-1768348799@satyaschool.com
SUMMARY:Assembly on Lohri +Pongal by 3B Test Series 2 Ends – Online (EY-Gr9)
DESCRIPTION:
URL:https://satyaschool.com/event/assembly-on-lohri-pongal-by-3b-test-series-2-ends/
CATEGORIES:School Calendar
END:VEVENT
END:VCALENDAR