BEGIN:VCALENDAR
VERSION:2.0
PRODID:-//Satya School - ECPv6.11.2//NONSGML v1.0//EN
CALSCALE:GREGORIAN
METHOD:PUBLISH
X-ORIGINAL-URL:https://satyaschool.com
X-WR-CALDESC:Events for Satya School
REFRESH-INTERVAL;VALUE=DURATION:PT1H
X-Robots-Tag:noindex
X-PUBLISHED-TTL:PT1H
BEGIN:VTIMEZONE
TZID:Asia/Kolkata
BEGIN:STANDARD
TZOFFSETFROM:+0530
TZOFFSETTO:+0530
TZNAME:IST
DTSTART:20260101T000000
END:STANDARD
END:VTIMEZONE
BEGIN:VEVENT
DTSTART;VALUE=DATE:20260119
DTEND;VALUE=DATE:20260120
DTSTAMP:20260423T202345
CREATED:20250503T120611Z
LAST-MODIFIED:20250503T120611Z
UID:16921-1768780800-1768867199@satyaschool.com
SUMMARY:Physical Mode Classes (EY- Gr 9\,11)
DESCRIPTION:
URL:https://satyaschool.com/event/physical-mode-classes-ey-gr-911/
CATEGORIES:School Calendar
END:VEVENT
END:VCALENDAR