BEGIN:VCALENDAR
VERSION:2.0
PRODID:-//Satya School - ECPv6.11.2//NONSGML v1.0//EN
CALSCALE:GREGORIAN
METHOD:PUBLISH
X-ORIGINAL-URL:https://satyaschool.com
X-WR-CALDESC:Events for Satya School
REFRESH-INTERVAL;VALUE=DURATION:PT1H
X-Robots-Tag:noindex
X-PUBLISHED-TTL:PT1H
BEGIN:VTIMEZONE
TZID:Asia/Kolkata
BEGIN:STANDARD
TZOFFSETFROM:+0530
TZOFFSETTO:+0530
TZNAME:IST
DTSTART:20260101T000000
END:STANDARD
END:VTIMEZONE
BEGIN:VEVENT
DTSTART;VALUE=DATE:20260218
DTEND;VALUE=DATE:20260219
DTSTAMP:20260420T010514
CREATED:20250503T121714Z
LAST-MODIFIED:20250503T121714Z
UID:16956-1771372800-1771459199@satyaschool.com
SUMMARY:Day Camp (Nur – Gr3) PYPX Assembly Fire Drill
DESCRIPTION:
URL:https://satyaschool.com/event/day-camp-nur-gr3-pypx-assembly-fire-drill/
CATEGORIES:School Calendar
END:VEVENT
BEGIN:VEVENT
DTSTART;VALUE=DATE:20260218
DTEND;VALUE=DATE:20260219
DTSTAMP:20260420T010514
CREATED:20250503T121810Z
LAST-MODIFIED:20250503T121810Z
UID:16958-1771372800-1771459199@satyaschool.com
SUMMARY:Day Camp (Nur – Gr3) PYPX Assembly Fire Drill
DESCRIPTION:
URL:https://satyaschool.com/event/day-camp-nur-gr3-pypx-assembly-fire-drill-2/
CATEGORIES:School Calendar
END:VEVENT
END:VCALENDAR