BEGIN:VCALENDAR
VERSION:2.0
PRODID:-//Satya School - ECPv6.11.2//NONSGML v1.0//EN
CALSCALE:GREGORIAN
METHOD:PUBLISH
X-WR-CALNAME:Satya School
X-ORIGINAL-URL:https://satyaschool.com
X-WR-CALDESC:Events for Satya School
REFRESH-INTERVAL;VALUE=DURATION:PT1H
X-Robots-Tag:noindex
X-PUBLISHED-TTL:PT1H
BEGIN:VTIMEZONE
TZID:Asia/Kolkata
BEGIN:STANDARD
TZOFFSETFROM:+0530
TZOFFSETTO:+0530
TZNAME:IST
DTSTART:20230101T000000
END:STANDARD
END:VTIMEZONE
BEGIN:VEVENT
DTSTART;VALUE=DATE:20230429
DTEND;VALUE=DATE:20230430
DTSTAMP:20260423T192831
CREATED:20230331T104000Z
LAST-MODIFIED:20230331T105039Z
UID:12072-1682726400-1682812799@satyaschool.com
SUMMARY:Investiture Ceremony/ International Dance Day
DESCRIPTION:
URL:https://satyaschool.com/event/investiture-ceremony-international-dance-day/
END:VEVENT
BEGIN:VEVENT
DTSTART;VALUE=DATE:20230424
DTEND;VALUE=DATE:20230425
DTSTAMP:20260423T192831
CREATED:20230331T104000Z
LAST-MODIFIED:20230331T105119Z
UID:12071-1682294400-1682380799@satyaschool.com
SUMMARY:PTI (Gr10\, 12) Ends
DESCRIPTION:
URL:https://satyaschool.com/event/pti-gr10-12-ends/
END:VEVENT
BEGIN:VEVENT
DTSTART;VALUE=DATE:20230422
DTEND;VALUE=DATE:20230423
DTSTAMP:20260423T192831
CREATED:20230331T104000Z
LAST-MODIFIED:20230331T105125Z
UID:12070-1682121600-1682207999@satyaschool.com
SUMMARY:Earth Day Eid-ul-Fitar HOLIDAY
DESCRIPTION:
URL:https://satyaschool.com/event/earth-day-eid-ul-fitar-holiday/
END:VEVENT
BEGIN:VEVENT
DTSTART;VALUE=DATE:20230421
DTEND;VALUE=DATE:20230422
DTSTAMP:20260423T192831
CREATED:20230331T104000Z
LAST-MODIFIED:20230331T105131Z
UID:12069-1682035200-1682121599@satyaschool.com
SUMMARY:INTERHOUSE-1 (PYP) Waste to Wonder Earth week celebrations end\, Student Council Elections Process
DESCRIPTION:
URL:https://satyaschool.com/event/interhouse-1-pyp-waste-to-wonder-earth-week-celebrations-end-student-council-elections-process/
END:VEVENT
BEGIN:VEVENT
DTSTART;VALUE=DATE:20230419
DTEND;VALUE=DATE:20230420
DTSTAMP:20260423T192831
CREATED:20230331T104000Z
LAST-MODIFIED:20230331T105158Z
UID:12068-1681862400-1681948799@satyaschool.com
SUMMARY:Student Council Manifesto
DESCRIPTION:
URL:https://satyaschool.com/event/student-council-manifesto/
END:VEVENT
BEGIN:VEVENT
DTSTART;VALUE=DATE:20230417
DTEND;VALUE=DATE:20230418
DTSTAMP:20260423T192831
CREATED:20230331T103959Z
LAST-MODIFIED:20230331T105203Z
UID:12067-1681689600-1681775999@satyaschool.com
SUMMARY:Earth week celebrations begin
DESCRIPTION:
URL:https://satyaschool.com/event/earth-week-celebrations-begin/
END:VEVENT
BEGIN:VEVENT
DTSTART;VALUE=DATE:20230414
DTEND;VALUE=DATE:20230415
DTSTAMP:20260423T192831
CREATED:20230331T103959Z
LAST-MODIFIED:20230331T105209Z
UID:12066-1681430400-1681516799@satyaschool.com
SUMMARY:Ambedkar Jayanti HOUDAY
DESCRIPTION:
URL:https://satyaschool.com/event/ambedkar-jayanti-houday/
END:VEVENT
BEGIN:VEVENT
DTSTART;VALUE=DATE:20230413
DTEND;VALUE=DATE:20230414
DTSTAMP:20260423T192831
CREATED:20230331T103959Z
LAST-MODIFIED:20230331T105218Z
UID:12065-1681344000-1681430399@satyaschool.com
SUMMARY:HOLIDAY IN LIEU OF GOOD FRIDAY
DESCRIPTION:
URL:https://satyaschool.com/event/holiday-in-lieu-of-good-friday/
END:VEVENT
BEGIN:VEVENT
DTSTART;VALUE=DATE:20230410
DTEND;VALUE=DATE:20230411
DTSTAMP:20260423T192831
CREATED:20230331T103959Z
LAST-MODIFIED:20230331T105224Z
UID:12064-1681084800-1681171199@satyaschool.com
SUMMARY:P11 (Gr10. 12) Begins
DESCRIPTION:
URL:https://satyaschool.com/event/p11-gr10-12-begins/
END:VEVENT
BEGIN:VEVENT
DTSTART;VALUE=DATE:20230408
DTEND;VALUE=DATE:20230409
DTSTAMP:20260423T192831
CREATED:20230331T103959Z
LAST-MODIFIED:20230331T105405Z
UID:12063-1680912000-1680998399@satyaschool.com
SUMMARY:Satya School Mega Launch
DESCRIPTION:
URL:https://satyaschool.com/event/satya-school-mega-launch/
END:VEVENT
BEGIN:VEVENT
DTSTART;VALUE=DATE:20230406
DTEND;VALUE=DATE:20230407
DTSTAMP:20260423T192831
CREATED:20230331T103957Z
LAST-MODIFIED:20230331T105411Z
UID:12062-1680739200-1680825599@satyaschool.com
SUMMARY:Learning to learn week
DESCRIPTION:
URL:https://satyaschool.com/event/learning-to-learn-week-4/
END:VEVENT
BEGIN:VEVENT
DTSTART;VALUE=DATE:20230405
DTEND;VALUE=DATE:20230406
DTSTAMP:20260423T192831
CREATED:20230331T103957Z
LAST-MODIFIED:20230331T105418Z
UID:12061-1680652800-1680739199@satyaschool.com
SUMMARY:Learning to learn week
DESCRIPTION:
URL:https://satyaschool.com/event/learning-to-learn-week-3/
END:VEVENT
BEGIN:VEVENT
DTSTART;VALUE=DATE:20230404
DTEND;VALUE=DATE:20230405
DTSTAMP:20260423T192831
CREATED:20230331T103957Z
LAST-MODIFIED:20230331T105422Z
UID:12060-1680566400-1680652799@satyaschool.com
SUMMARY:New session (Grades 1-1\, 11)
DESCRIPTION:
URL:https://satyaschool.com/event/new-session-grades-1-1-11/
END:VEVENT
BEGIN:VEVENT
DTSTART;VALUE=DATE:20230403
DTEND;VALUE=DATE:20230404
DTSTAMP:20260423T192831
CREATED:20230331T103957Z
LAST-MODIFIED:20230331T105429Z
UID:12059-1680480000-1680566399@satyaschool.com
SUMMARY:New session for KG1 and KG2. Grades 10\, 12 resume classes
DESCRIPTION:
URL:https://satyaschool.com/event/new-session-for-kg1-and-kg2-grades-10-12-resume-classes/
END:VEVENT
END:VCALENDAR