BEGIN:VCALENDAR
VERSION:2.0
PRODID:-//Satya School - ECPv6.11.2//NONSGML v1.0//EN
CALSCALE:GREGORIAN
METHOD:PUBLISH
X-WR-CALNAME:Satya School
X-ORIGINAL-URL:https://satyaschool.com
X-WR-CALDESC:Events for Satya School
REFRESH-INTERVAL;VALUE=DURATION:PT1H
X-Robots-Tag:noindex
X-PUBLISHED-TTL:PT1H
BEGIN:VTIMEZONE
TZID:Asia/Kolkata
BEGIN:STANDARD
TZOFFSETFROM:+0530
TZOFFSETTO:+0530
TZNAME:IST
DTSTART:20230101T000000
END:STANDARD
END:VTIMEZONE
BEGIN:VEVENT
DTSTART;VALUE=DATE:20240125
DTEND;VALUE=DATE:20240126
DTSTAMP:20260424T211301
CREATED:20230627T072534Z
LAST-MODIFIED:20230627T072534Z
UID:12406-1706140800-1706227199@satyaschool.com
SUMMARY:INQUIRY FAIR (Gr 6-8) Pre-Board 2 ends
DESCRIPTION:
URL:https://satyaschool.com/event/inquiry-fair-gr-6-8-pre-board-2-ends/
END:VEVENT
BEGIN:VEVENT
DTSTART;VALUE=DATE:20240120
DTEND;VALUE=DATE:20240121
DTSTAMP:20260424T211301
CREATED:20230627T072441Z
LAST-MODIFIED:20230708T062211Z
UID:12404-1705708800-1705795199@satyaschool.com
SUMMARY:PTC 3 (EY –Gr12)
DESCRIPTION:
URL:https://satyaschool.com/event/ptc-3-ey-gr12/
END:VEVENT
BEGIN:VEVENT
DTSTART;VALUE=DATE:20240115
DTEND;VALUE=DATE:20240116
DTSTAMP:20260424T211301
CREATED:20230627T072356Z
LAST-MODIFIED:20230627T072356Z
UID:12402-1705276800-1705363199@satyaschool.com
SUMMARY:School reopens for students (EY-9\, 11)/ Pre-Board 2 begins
DESCRIPTION:
URL:https://satyaschool.com/event/school-reopens-for-students-ey-9-11-pre-board-2-begins/
END:VEVENT
BEGIN:VEVENT
DTSTART;VALUE=DATE:20240112
DTEND;VALUE=DATE:20240113
DTSTAMP:20260424T211301
CREATED:20230627T072256Z
LAST-MODIFIED:20230627T072256Z
UID:12400-1705017600-1705103999@satyaschool.com
SUMMARY:BOOSTER CAMP Ends (Gr 10-12)
DESCRIPTION:
URL:https://satyaschool.com/event/booster-camp-ends-gr-10-12/
END:VEVENT
BEGIN:VEVENT
DTSTART;VALUE=DATE:20240108
DTEND;VALUE=DATE:20240109
DTSTAMP:20260424T211301
CREATED:20230627T072115Z
LAST-MODIFIED:20230627T072115Z
UID:12398-1704672000-1704758399@satyaschool.com
SUMMARY:BOOSTER CAMP Begins (Gr 10- 12)
DESCRIPTION:
URL:https://satyaschool.com/event/booster-camp-begins-gr-10-12/
END:VEVENT
BEGIN:VEVENT
DTSTART;VALUE=DATE:20240101
DTEND;VALUE=DATE:20240102
DTSTAMP:20260424T211301
CREATED:20230627T071920Z
LAST-MODIFIED:20230708T061843Z
UID:12396-1704067200-1704153599@satyaschool.com
SUMMARY:New Years Day
DESCRIPTION:
URL:https://satyaschool.com/event/new-years-day/
END:VEVENT
BEGIN:VEVENT
DTSTART;VALUE=DATE:20231229
DTEND;VALUE=DATE:20231230
DTSTAMP:20260424T211301
CREATED:20230627T071802Z
LAST-MODIFIED:20230627T071802Z
UID:12394-1703808000-1703894399@satyaschool.com
SUMMARY:FAREWELL AND GRADUATION CEREMONY GRADE 12 Winter Break begins for grades 10 and 12
DESCRIPTION:
URL:https://satyaschool.com/event/farewell-and-graduation-ceremony-grade-12-winter-break-begins-for-grades-10-and-12/
END:VEVENT
BEGIN:VEVENT
DTSTART;VALUE=DATE:20231228
DTEND;VALUE=DATE:20231229
DTSTAMP:20260424T211301
CREATED:20230627T071654Z
LAST-MODIFIED:20230627T071654Z
UID:12392-1703721600-1703807999@satyaschool.com
SUMMARY:Winter Break begins for grades EY to 9
DESCRIPTION:
URL:https://satyaschool.com/event/winter-break-begins-for-grades-ey-to-9/
END:VEVENT
BEGIN:VEVENT
DTSTART;VALUE=DATE:20231225
DTEND;VALUE=DATE:20231226
DTSTAMP:20260424T211301
CREATED:20230627T071537Z
LAST-MODIFIED:20230627T071537Z
UID:12390-1703462400-1703548799@satyaschool.com
SUMMARY:Christmas HOLIDAY
DESCRIPTION:
URL:https://satyaschool.com/event/christmas-holiday/
END:VEVENT
BEGIN:VEVENT
DTSTART;VALUE=DATE:20231224
DTEND;VALUE=DATE:20231225
DTSTAMP:20260424T211301
CREATED:20230627T071421Z
LAST-MODIFIED:20230627T071421Z
UID:12388-1703376000-1703462399@satyaschool.com
SUMMARY:Winter Carnival
DESCRIPTION:
URL:https://satyaschool.com/event/winter-carnival-2/
END:VEVENT
BEGIN:VEVENT
DTSTART;VALUE=DATE:20231223
DTEND;VALUE=DATE:20231224
DTSTAMP:20260424T211301
CREATED:20230627T071301Z
LAST-MODIFIED:20230627T071301Z
UID:12386-1703289600-1703375999@satyaschool.com
SUMMARY:Winter Carnival
DESCRIPTION:
URL:https://satyaschool.com/event/winter-carnival/
END:VEVENT
BEGIN:VEVENT
DTSTART;VALUE=DATE:20231221
DTEND;VALUE=DATE:20231222
DTSTAMP:20260424T211301
CREATED:20230627T071204Z
LAST-MODIFIED:20230627T071204Z
UID:12384-1703116800-1703203199@satyaschool.com
SUMMARY:National Math Day INTERHOUSE –4 (PYP) Dance Competition (Folk dances around the world) (Gr 1-5)
DESCRIPTION:
URL:https://satyaschool.com/event/national-math-day-interhouse-4-pyp-dance-competition-folk-dances-around-the-world-gr-1-5/
END:VEVENT
BEGIN:VEVENT
DTSTART;VALUE=DATE:20231220
DTEND;VALUE=DATE:20231221
DTSTAMP:20260424T211301
CREATED:20230627T071113Z
LAST-MODIFIED:20230627T071113Z
UID:12382-1703030400-1703116799@satyaschool.com
SUMMARY:INTERHOUSE –4 (PYP) Dance Competition (Folk dances around the world) (Gr 1-5)
DESCRIPTION:
URL:https://satyaschool.com/event/interhouse-4-pyp-dance-competition-folk-dances-around-the-world-gr-1-5/
END:VEVENT
BEGIN:VEVENT
DTSTART;VALUE=DATE:20231216
DTEND;VALUE=DATE:20231217
DTSTAMP:20260424T211301
CREATED:20230627T071007Z
LAST-MODIFIED:20230627T071007Z
UID:12379-1702684800-1702771199@satyaschool.com
SUMMARY:Vijay Diwas
DESCRIPTION:
URL:https://satyaschool.com/event/vijay-diwas/
END:VEVENT
BEGIN:VEVENT
DTSTART;VALUE=DATE:20231215
DTEND;VALUE=DATE:20231216
DTSTAMP:20260424T211301
CREATED:20230627T070647Z
LAST-MODIFIED:20230627T070647Z
UID:12374-1702598400-1702684799@satyaschool.com
SUMMARY:PT2 (Gr 6-9\, 11)/ Preboards 1 Begins
DESCRIPTION:
URL:https://satyaschool.com/event/pt2-gr-6-9-11-preboards-1-begins-2/
END:VEVENT
BEGIN:VEVENT
DTSTART;VALUE=DATE:20231209
DTEND;VALUE=DATE:20231210
DTSTAMP:20260424T211301
CREATED:20230627T070527Z
LAST-MODIFIED:20230627T070527Z
UID:12372-1702080000-1702166399@satyaschool.com
SUMMARY:Gr 3-5 Annual Day Working Saturday
DESCRIPTION:
URL:https://satyaschool.com/event/gr-3-5-annual-day-working-saturday/
END:VEVENT
BEGIN:VEVENT
DTSTART;VALUE=DATE:20231207
DTEND;VALUE=DATE:20231208
DTSTAMP:20260424T211302
CREATED:20230627T070312Z
LAST-MODIFIED:20230627T070312Z
UID:12368-1701907200-1701993599@satyaschool.com
SUMMARY:Indian Armed Forces Flag Day
DESCRIPTION:
URL:https://satyaschool.com/event/indian-armed-forces-flag-day/
END:VEVENT
BEGIN:VEVENT
DTSTART;VALUE=DATE:20231204
DTEND;VALUE=DATE:20231205
DTSTAMP:20260424T211302
CREATED:20230627T070147Z
LAST-MODIFIED:20230627T070147Z
UID:12365-1701648000-1701734399@satyaschool.com
SUMMARY:PT2 (Gr 6-9\, 11)/ Preboards 1 Begins
DESCRIPTION:
URL:https://satyaschool.com/event/pt2-gr-6-9-11-preboards-1-begins/
END:VEVENT
BEGIN:VEVENT
DTSTART;VALUE=DATE:20231202
DTEND;VALUE=DATE:20231203
DTSTAMP:20260424T211302
CREATED:20230627T065542Z
LAST-MODIFIED:20230627T065542Z
UID:12363-1701475200-1701561599@satyaschool.com
SUMMARY:WORLD POLLUTION DAY
DESCRIPTION:
URL:https://satyaschool.com/event/world-pollution-day/
END:VEVENT
BEGIN:VEVENT
DTSTART;VALUE=DATE:20231130
DTEND;VALUE=DATE:20231201
DTSTAMP:20260424T211302
CREATED:20230627T065349Z
LAST-MODIFIED:20230627T065349Z
UID:12361-1701302400-1701388799@satyaschool.com
SUMMARY:PT3 (Gr 10\, 12) ends
DESCRIPTION:
URL:https://satyaschool.com/event/pt3-gr-10-12-ends/
END:VEVENT
BEGIN:VEVENT
DTSTART;VALUE=DATE:20231127
DTEND;VALUE=DATE:20231128
DTSTAMP:20260424T211302
CREATED:20230627T065251Z
LAST-MODIFIED:20230708T061920Z
UID:12359-1701043200-1701129599@satyaschool.com
SUMMARY:Guru Nanak Birthday HOLIDAY
DESCRIPTION:
URL:https://satyaschool.com/event/guru-nanaks-birthday-holiday/
END:VEVENT
BEGIN:VEVENT
DTSTART;VALUE=DATE:20231117
DTEND;VALUE=DATE:20231118
DTSTAMP:20260424T211302
CREATED:20230627T065203Z
LAST-MODIFIED:20230627T065203Z
UID:12357-1700179200-1700265599@satyaschool.com
SUMMARY:PT3 (Gr 10\, 12) begins
DESCRIPTION:
URL:https://satyaschool.com/event/pt3-gr-10-12-begins/
END:VEVENT
BEGIN:VEVENT
DTSTART;VALUE=DATE:20231116
DTEND;VALUE=DATE:20231117
DTSTAMP:20260424T211302
CREATED:20230627T065039Z
LAST-MODIFIED:20230627T065039Z
UID:12355-1700092800-1700179199@satyaschool.com
SUMMARY:School Reopens
DESCRIPTION:
URL:https://satyaschool.com/event/school-reopens-2/
END:VEVENT
BEGIN:VEVENT
DTSTART;VALUE=DATE:20231115
DTEND;VALUE=DATE:20231116
DTSTAMP:20260424T211302
CREATED:20230627T064939Z
LAST-MODIFIED:20230627T064939Z
UID:12353-1700006400-1700092799@satyaschool.com
SUMMARY:Diwali break Ends
DESCRIPTION:
URL:https://satyaschool.com/event/diwali-break-ends/
END:VEVENT
BEGIN:VEVENT
DTSTART;VALUE=DATE:20231114
DTEND;VALUE=DATE:20231115
DTSTAMP:20260424T211302
CREATED:20230627T064848Z
LAST-MODIFIED:20230627T064848Z
UID:12351-1699920000-1700006399@satyaschool.com
SUMMARY:Diwali break
DESCRIPTION:
URL:https://satyaschool.com/event/diwali-break-2/
END:VEVENT
BEGIN:VEVENT
DTSTART;VALUE=DATE:20231113
DTEND;VALUE=DATE:20231114
DTSTAMP:20260424T211302
CREATED:20230627T064803Z
LAST-MODIFIED:20230627T064803Z
UID:12349-1699833600-1699919999@satyaschool.com
SUMMARY:Diwali break
DESCRIPTION:
URL:https://satyaschool.com/event/diwali-break/
END:VEVENT
BEGIN:VEVENT
DTSTART;VALUE=DATE:20231112
DTEND;VALUE=DATE:20231113
DTSTAMP:20260424T211302
CREATED:20230627T063956Z
LAST-MODIFIED:20230627T063956Z
UID:12347-1699747200-1699833599@satyaschool.com
SUMMARY:Diwali / Deepavali
DESCRIPTION:
URL:https://satyaschool.com/event/diwali-deepavali/
END:VEVENT
BEGIN:VEVENT
DTSTART;VALUE=DATE:20231111
DTEND;VALUE=DATE:20231112
DTSTAMP:20260424T211302
CREATED:20230627T063817Z
LAST-MODIFIED:20230627T063817Z
UID:12344-1699660800-1699747199@satyaschool.com
SUMMARY:Diwali break begins
DESCRIPTION:
URL:https://satyaschool.com/event/diwali-break-begins/
END:VEVENT
BEGIN:VEVENT
DTSTART;VALUE=DATE:20231110
DTEND;VALUE=DATE:20231111
DTSTAMP:20260424T211302
CREATED:20230627T063742Z
LAST-MODIFIED:20230627T063742Z
UID:12342-1699574400-1699660799@satyaschool.com
SUMMARY:INTERHOUSE –3 (PYP) Art Competition: Rangoli/ Diya Making/ Toran Competition (Gr 1-5)
DESCRIPTION:
URL:https://satyaschool.com/event/interhouse-3-pyp-art-competition-rangoli-diya-making-toran-competition-gr-1-5-2/
END:VEVENT
BEGIN:VEVENT
DTSTART;VALUE=DATE:20231109
DTEND;VALUE=DATE:20231110
DTSTAMP:20260424T211302
CREATED:20230627T063653Z
LAST-MODIFIED:20230627T063653Z
UID:12340-1699488000-1699574399@satyaschool.com
SUMMARY:INTERHOUSE –3 (PYP) Art Competition: Rangoli/ Diya Making/ Toran Competition (Gr 1-5)
DESCRIPTION:
URL:https://satyaschool.com/event/interhouse-3-pyp-art-competition-rangoli-diya-making-toran-competition-gr-1-5/
END:VEVENT
END:VCALENDAR