BEGIN:VCALENDAR
VERSION:2.0
PRODID:-//Satya School - ECPv6.11.2//NONSGML v1.0//EN
CALSCALE:GREGORIAN
METHOD:PUBLISH
X-WR-CALNAME:Satya School
X-ORIGINAL-URL:https://satyaschool.com
X-WR-CALDESC:Events for Satya School
REFRESH-INTERVAL;VALUE=DURATION:PT1H
X-Robots-Tag:noindex
X-PUBLISHED-TTL:PT1H
BEGIN:VTIMEZONE
TZID:Asia/Kolkata
BEGIN:STANDARD
TZOFFSETFROM:+0530
TZOFFSETTO:+0530
TZNAME:IST
DTSTART:20250101T000000
END:STANDARD
END:VTIMEZONE
BEGIN:VEVENT
DTSTART;VALUE=DATE:20251101
DTEND;VALUE=DATE:20251102
DTSTAMP:20260423T213026
CREATED:20250503T112335Z
LAST-MODIFIED:20250503T112335Z
UID:16830-1761955200-1762041599@satyaschool.com
SUMMARY:Haryana Day – HOLIDAY
DESCRIPTION:
URL:https://satyaschool.com/event/haryana-day-holiday/
CATEGORIES:School Calendar
END:VEVENT
BEGIN:VEVENT
DTSTART;VALUE=DATE:20251104
DTEND;VALUE=DATE:20251105
DTSTAMP:20260423T213026
CREATED:20250503T112410Z
LAST-MODIFIED:20250503T112410Z
UID:16832-1762214400-1762300799@satyaschool.com
SUMMARY:Assembly by Grade 3B
DESCRIPTION:
URL:https://satyaschool.com/event/assembly-by-grade-3b/
CATEGORIES:School Calendar
END:VEVENT
BEGIN:VEVENT
DTSTART;VALUE=DATE:20251105
DTEND;VALUE=DATE:20251106
DTSTAMP:20260423T213026
CREATED:20250503T112430Z
LAST-MODIFIED:20250503T112430Z
UID:16834-1762300800-1762387199@satyaschool.com
SUMMARY:Guru Nanak Jayanti HOLIDAY
DESCRIPTION:
URL:https://satyaschool.com/event/guru-nanak-jayanti-holiday/
CATEGORIES:School Calendar
END:VEVENT
BEGIN:VEVENT
DTSTART;VALUE=DATE:20251107
DTEND;VALUE=DATE:20251108
DTSTAMP:20260423T213026
CREATED:20250503T112447Z
LAST-MODIFIED:20250503T112447Z
UID:16836-1762473600-1762559999@satyaschool.com
SUMMARY:Combined Assembly EY
DESCRIPTION:
URL:https://satyaschool.com/event/combined-assembly-ey-2/
CATEGORIES:School Calendar
END:VEVENT
BEGIN:VEVENT
DTSTART;VALUE=DATE:20251108
DTEND;VALUE=DATE:20251109
DTSTAMP:20260423T213026
CREATED:20250503T112507Z
LAST-MODIFIED:20250503T112507Z
UID:16838-1762560000-1762646399@satyaschool.com
SUMMARY:Annual Day (Gr 6-12)
DESCRIPTION:
URL:https://satyaschool.com/event/annual-day-gr-6-12/
CATEGORIES:School Calendar
END:VEVENT
BEGIN:VEVENT
DTSTART;VALUE=DATE:20251111
DTEND;VALUE=DATE:20251112
DTSTAMP:20260423T213026
CREATED:20250503T112529Z
LAST-MODIFIED:20250503T112529Z
UID:16840-1762819200-1762905599@satyaschool.com
SUMMARY:Assembly by Grade 3C
DESCRIPTION:
URL:https://satyaschool.com/event/assembly-by-grade-3c/
CATEGORIES:School Calendar
END:VEVENT
BEGIN:VEVENT
DTSTART;VALUE=DATE:20251112
DTEND;VALUE=DATE:20251113
DTSTAMP:20260423T213026
CREATED:20250503T112558Z
LAST-MODIFIED:20250503T112558Z
UID:16842-1762905600-1762991999@satyaschool.com
SUMMARY:PT3 begins (Gr10 and 12)
DESCRIPTION:
URL:https://satyaschool.com/event/pt3-begins-gr10-and-12/
CATEGORIES:School Calendar
END:VEVENT
BEGIN:VEVENT
DTSTART;VALUE=DATE:20251114
DTEND;VALUE=DATE:20251115
DTSTAMP:20260423T213026
CREATED:20250503T112623Z
LAST-MODIFIED:20250503T112623Z
UID:16844-1763078400-1763164799@satyaschool.com
SUMMARY:Children’s Day Celebration
DESCRIPTION:
URL:https://satyaschool.com/event/childrens-day-celebration/
CATEGORIES:School Calendar
END:VEVENT
BEGIN:VEVENT
DTSTART;VALUE=DATE:20251116
DTEND;VALUE=DATE:20251117
DTSTAMP:20260423T213026
CREATED:20250503T112649Z
LAST-MODIFIED:20250503T112649Z
UID:16846-1763251200-1763337599@satyaschool.com
SUMMARY:International Day of Tolerance
DESCRIPTION:
URL:https://satyaschool.com/event/international-day-of-tolerance/
CATEGORIES:School Calendar
END:VEVENT
BEGIN:VEVENT
DTSTART;VALUE=DATE:20251118
DTEND;VALUE=DATE:20251119
DTSTAMP:20260423T213026
CREATED:20250503T112732Z
LAST-MODIFIED:20250503T112732Z
UID:16848-1763424000-1763510399@satyaschool.com
SUMMARY:Assembly on Self Management Skill by Grade 4A
DESCRIPTION:
URL:https://satyaschool.com/event/assembly-on-self-management-skill-by-grade-4a/
CATEGORIES:School Calendar
END:VEVENT
BEGIN:VEVENT
DTSTART;VALUE=DATE:20251119
DTEND;VALUE=DATE:20251120
DTSTAMP:20260423T213026
CREATED:20250503T112801Z
LAST-MODIFIED:20250503T112801Z
UID:16850-1763510400-1763596799@satyaschool.com
SUMMARY:International Men’s Day – Combined Assembly by Grade 1&2
DESCRIPTION:
URL:https://satyaschool.com/event/international-mens-day-combined-assembly-by-grade-12/
CATEGORIES:School Calendar
END:VEVENT
BEGIN:VEVENT
DTSTART;VALUE=DATE:20251120
DTEND;VALUE=DATE:20251121
DTSTAMP:20260423T213026
CREATED:20250503T112830Z
LAST-MODIFIED:20250503T112830Z
UID:16852-1763596800-1763683199@satyaschool.com
SUMMARY:Assembly by Grade 6C
DESCRIPTION:
URL:https://satyaschool.com/event/assembly-by-grade-6c/
CATEGORIES:School Calendar
END:VEVENT
BEGIN:VEVENT
DTSTART;VALUE=DATE:20251121
DTEND;VALUE=DATE:20251122
DTSTAMP:20260423T213026
CREATED:20250503T112852Z
LAST-MODIFIED:20250503T112852Z
UID:16854-1763683200-1763769599@satyaschool.com
SUMMARY:Assembly by KG2B
DESCRIPTION:
URL:https://satyaschool.com/event/assembly-by-kg2b-2/
CATEGORIES:School Calendar
END:VEVENT
BEGIN:VEVENT
DTSTART;VALUE=DATE:20251125
DTEND;VALUE=DATE:20251126
DTSTAMP:20260423T213026
CREATED:20250503T112932Z
LAST-MODIFIED:20250503T112932Z
UID:16856-1764028800-1764115199@satyaschool.com
SUMMARY:Interhouse 3 (Gr 6-12) The Spotlight (PA/VA) – Assembly by Gr 4B
DESCRIPTION:
URL:https://satyaschool.com/event/interhouse-3-gr-6-12-the-spotlight-pa-va-assembly-by-gr-4b/
CATEGORIES:School Calendar
END:VEVENT
BEGIN:VEVENT
DTSTART;VALUE=DATE:20251126
DTEND;VALUE=DATE:20251127
DTSTAMP:20260423T213026
CREATED:20250503T113016Z
LAST-MODIFIED:20250503T113016Z
UID:16858-1764115200-1764201599@satyaschool.com
SUMMARY:PT3 ends (Gr10 and 12) Heats (Gr 10 & 12) – Ongoing theme Assembly by 1A
DESCRIPTION:
URL:https://satyaschool.com/event/pt3-ends-gr10-and-12-heats-gr-10-12-ongoing-theme-assembly-by-1a/
CATEGORIES:School Calendar
END:VEVENT
BEGIN:VEVENT
DTSTART;VALUE=DATE:20251127
DTEND;VALUE=DATE:20251128
DTSTAMP:20260423T213026
CREATED:20250503T113110Z
LAST-MODIFIED:20250503T113110Z
UID:16860-1764201600-1764287999@satyaschool.com
SUMMARY:Thanksgiving Day Interhouse 4 (Gr 1- 5) Declamation (CEEDD) Heats (Gr 10 & 12) NSO Assembly by Grade 7A
DESCRIPTION:
URL:https://satyaschool.com/event/thanksgiving-day-interhouse-4-gr-1-5-declamation-ceedd-heats-gr-10-12-nso-assembly-by-grade-7a/
CATEGORIES:School Calendar
END:VEVENT
BEGIN:VEVENT
DTSTART;VALUE=DATE:20251128
DTEND;VALUE=DATE:20251129
DTSTAMP:20260423T213026
CREATED:20250503T113134Z
LAST-MODIFIED:20250503T113134Z
UID:16862-1764288000-1764374399@satyaschool.com
SUMMARY:Heats (Gr 10 & 12)
DESCRIPTION:
URL:https://satyaschool.com/event/heats-gr-10-12/
CATEGORIES:School Calendar
END:VEVENT
END:VCALENDAR